BEGIN:VCALENDAR
VERSION:2.0
PRODID:-//keepcharlottebeautiful.org//NONSGML kigkonsult.se iCalcreator 2.3
 0.10//
CALSCALE:GREGORIAN
METHOD:PUBLISH
UID:a38b6008-710c-47f9-b04f-da92e0da64a5
X-WR-CALDESC:
X-WR-RELCALID:9b97bae48ae1db7377371a64aa326d97
X-WR-TIMEZONE:America/New_York
BEGIN:VTIMEZONE
TZID:America/New_York
BEGIN:STANDARD
TZNAME:EST
DTSTART:20261101T020000
TZOFFSETFROM:-0400
TZOFFSETTO:-0500
RDATE:20271107T020000
END:STANDARD
BEGIN:DAYLIGHT
TZNAME:EDT
DTSTART:20260308T020000
TZOFFSETFROM:-0500
TZOFFSETTO:-0400
RDATE:20270314T020000
RDATE:20280312T020000
END:DAYLIGHT
END:VTIMEZONE
BEGIN:VEVENT
UID:6b0b2228-8ca7-4014-870e-71435b57e1a6
DTSTAMP:20260421T085716Z
DESCRIPTION:
DTSTART;TZID=America/New_York:20261205T080000
DTEND;TZID=America/New_York:20261205T120000
LOCATION:Walmart Murdock\, 19100 Murdock Circle\, Port Charlotte\, FL 33954
  US
SUMMARY:Keep Charlotte Beautiful Recycling Event
END:VEVENT
END:VCALENDAR
