BEGIN:VCALENDAR
VERSION:2.0
PRODID:-//keepcharlottebeautiful.org//NONSGML kigkonsult.se iCalcreator 2.3
 0.10//
CALSCALE:GREGORIAN
METHOD:PUBLISH
UID:464780ee-11a4-49a0-aab2-0bbb45a63e2b
X-WR-CALDESC:Please <b> <a href='https://keepcharlottebeautiful.org/news-ev
 ents/great-american-cleanup.html/event-form/gac-registration/74997/tickets
 '>REGISTER</a></b> online.
X-WR-RELCALID:9ab0810d4f91754df4d00add20c43c60
X-WR-TIMEZONE:America/New_York
BEGIN:VTIMEZONE
TZID:America/New_York
BEGIN:STANDARD
TZNAME:EST
DTSTART:20251102T020000
TZOFFSETFROM:-0400
TZOFFSETTO:-0500
RDATE:20261101T020000
RDATE:20271107T020000
END:STANDARD
BEGIN:DAYLIGHT
TZNAME:EDT
DTSTART:20260308T020000
TZOFFSETFROM:-0500
TZOFFSETTO:-0400
RDATE:20270314T020000
END:DAYLIGHT
END:VTIMEZONE
BEGIN:VEVENT
UID:4e2aba5f-36f4-49bb-8d4e-50fff24cc1c9
DTSTAMP:20260421T073928Z
DESCRIPTION:Please <b> <a href='https://keepcharlottebeautiful.org/news-eve
 nts/great-american-cleanup.html/event-form/gac-registration/74997/tickets'
 >REGISTER</a></b> online.
DTSTART;TZID=America/New_York:20260620T010000
DTEND;TZID=America/New_York:20260620T130000
LOCATION:
SUMMARY:27th Annual Keep America Beautiful Greatest American Cleanup in Cha
 rlotte County\, Florida
END:VEVENT
END:VCALENDAR
