BEGIN:VCALENDAR
VERSION:2.0
PRODID:-//keepcharlottebeautiful.org//NONSGML kigkonsult.se iCalcreator 2.3
 0.10//
CALSCALE:GREGORIAN
METHOD:PUBLISH
UID:a8226819-ac5b-4d96-827a-e09cfef6a0d6
X-WR-CALDESC:Rain or Shine\nWalk\, golf cart\, bicycle\, boats\, kayaks aro
 und\nthe neighborhood picking up debris and\ntrash to show pride in our co
 mmunity.\nSponsored by the\nHarbour Heights Civic\nAssociation Environment
 al
X-WR-RELCALID:fc59f5a98a558c2144cf9f3b18cf44f1
X-WR-TIMEZONE:America/New_York
BEGIN:VTIMEZONE
TZID:America/New_York
BEGIN:STANDARD
TZNAME:EST
DTSTART:20241103T020000
TZOFFSETFROM:-0400
TZOFFSETTO:-0500
RDATE:20251102T020000
END:STANDARD
BEGIN:DAYLIGHT
TZNAME:EDT
DTSTART:20250309T020000
TZOFFSETFROM:-0500
TZOFFSETTO:-0400
RDATE:20260308T020000
END:DAYLIGHT
END:VTIMEZONE
BEGIN:VEVENT
UID:fd40c2d4-2a80-4709-96b6-17a9600ccce4
DTSTAMP:20260423T155015Z
DESCRIPTION:Rain or Shine\nWalk\, golf cart\, bicycle\, boats\, kayaks arou
 nd\nthe neighborhood picking up debris and\ntrash to show pride in our com
 munity.\nSponsored by the\nHarbour Heights Civic\nAssociation Environmenta
 l
DTSTART;TZID=America/New_York:20250412T080000
DTEND;TZID=America/New_York:20250412T140000
LOCATION:2530 Harbour Dr.\, Punta Gorda\, FL 33983 US
SUMMARY:The Greatest American Cleanup Earth Day Event in Harbour Heights
END:VEVENT
END:VCALENDAR
