BEGIN:VCALENDAR
VERSION:2.0
PRODID:-//keepcharlottebeautiful.org//NONSGML kigkonsult.se iCalcreator 2.3
 0.10//
CALSCALE:GREGORIAN
METHOD:PUBLISH
UID:51f0da20-253f-4969-b152-27b25bff9140
X-WR-CALDESC:
X-WR-RELCALID:10018935e5f75df79a67d62151d2e4e4
X-WR-TIMEZONE:America/New_York
BEGIN:VTIMEZONE
TZID:America/New_York
BEGIN:STANDARD
TZNAME:EST
DTSTART:20241103T020000
TZOFFSETFROM:-0400
TZOFFSETTO:-0500
RDATE:20251102T020000
END:STANDARD
BEGIN:DAYLIGHT
TZNAME:EDT
DTSTART:20240310T020000
TZOFFSETFROM:-0500
TZOFFSETTO:-0400
RDATE:20250309T020000
RDATE:20260308T020000
END:DAYLIGHT
END:VTIMEZONE
BEGIN:VEVENT
UID:2c0f24a6-2d3c-4303-92f5-4c7960b423a7
DTSTAMP:20260423T014644Z
DESCRIPTION:
DTSTART;TZID=America/New_York:20241130T080000
DTEND;TZID=America/New_York:20241130T130000
LOCATION:TBA
SUMMARY:International Coastal Cleanup 2024
END:VEVENT
END:VCALENDAR
