BEGIN:VCALENDAR
VERSION:2.0
PRODID:-//keepcharlottebeautiful.org//NONSGML kigkonsult.se iCalcreator 2.3
 0.10//
CALSCALE:GREGORIAN
METHOD:PUBLISH
UID:d585ab56-87d4-462f-ba00-3e191a79f369
X-WR-CALDESC:Come on out\, throw a few darts and raise a glass at the KCB s
 pring fun darts fundraiser!\n\nAll levels are welcome! \n\nThere will be a
  50/50 drawing\, raffle prizes\, and lots of fun at the Ice House on this 
 afternoon!\n\nWe are raising funds for our Keep Charlotte Beautiful Enviro
 nmental Volunteerism Award for high school seniors. We are giving out 3 sc
 holarships this spring. Scholarships will be 1 for $1000 and there will be
  2 for $750. \nHelp us do even better next year for these students who do 
 so much in our community!\n\nWe can't wait to meet up with you and hang ou
 t for the afternoon! \n\n
X-WR-RELCALID:102843fca1ce57dd8c0996f0fb4aed36
X-WR-TIMEZONE:America/New_York
BEGIN:VTIMEZONE
TZID:America/New_York
BEGIN:STANDARD
TZNAME:EST
DTSTART:20231105T020000
TZOFFSETFROM:-0400
TZOFFSETTO:-0500
RDATE:20241103T020000
RDATE:20251102T020000
END:STANDARD
BEGIN:DAYLIGHT
TZNAME:EDT
DTSTART:20240310T020000
TZOFFSETFROM:-0500
TZOFFSETTO:-0400
RDATE:20250309T020000
END:DAYLIGHT
END:VTIMEZONE
BEGIN:VEVENT
UID:06639554-b453-4a8f-9ce8-2d572506575b
DTSTAMP:20260421T103503Z
DESCRIPTION:Come on out\, throw a few darts and raise a glass at the KCB sp
 ring fun darts fundraiser!\n\nAll levels are welcome! \n\nThere will be a 
 50/50 drawing\, raffle prizes\, and lots of fun at the Ice House on this a
 fternoon!\n\nWe are raising funds for our Keep Charlotte Beautiful Environ
 mental Volunteerism Award for high school seniors. We are giving out 3 sch
 olarships this spring. Scholarships will be 1 for $1000 and there will be 
 2 for $750. \nHelp us do even better next year for these students who do s
 o much in our community!\n\nWe can't wait to meet up with you and hang out
  for the afternoon! \n\n
DTSTART;TZID=America/New_York:20240505T120000
DTEND;TZID=America/New_York:20240505T170000
LOCATION:Ice House Pub\, 408 Tamiami Trail\, Punta Gorda\, FL 33950 US
SUMMARY:KCB Dart Tournament - All Skill Levels Welcome!
END:VEVENT
END:VCALENDAR
