BEGIN:VCALENDAR
VERSION:2.0
PRODID:-//keepcharlottebeautiful.org//NONSGML kigkonsult.se iCalcreator 2.3
 0.10//
CALSCALE:GREGORIAN
METHOD:PUBLISH
UID:6d207ddb-718c-46df-a43b-7e69e555455c
X-WR-CALDESC:
X-WR-RELCALID:5d7afcf8119df5c1328bf84d3301013a
X-WR-TIMEZONE:America/New_York
BEGIN:VTIMEZONE
TZID:America/New_York
BEGIN:STANDARD
TZNAME:EST
DTSTART:20231105T020000
TZOFFSETFROM:-0400
TZOFFSETTO:-0500
RDATE:20241103T020000
END:STANDARD
BEGIN:DAYLIGHT
TZNAME:EDT
DTSTART:20240310T020000
TZOFFSETFROM:-0500
TZOFFSETTO:-0400
RDATE:20250309T020000
END:DAYLIGHT
END:VTIMEZONE
BEGIN:VEVENT
UID:5c060de7-e0bd-4e8b-bff3-d1ea0719c691
DTSTAMP:20260421T183057Z
DESCRIPTION:
DTSTART;TZID=America/New_York:20240422T080000
DTEND;TZID=America/New_York:20240422T140000
LOCATION:27420 Voyageur Dr.\, 4100 Riverwood Dr\,\, Punta Gorda\, FL 33983 
 US
SUMMARY:Great American Cleanup Earth Day Event
END:VEVENT
END:VCALENDAR
