BEGIN:VCALENDAR
VERSION:2.0
PRODID:-//keepcharlottebeautiful.org//NONSGML kigkonsult.se iCalcreator 2.3
 0.10//
CALSCALE:GREGORIAN
METHOD:PUBLISH
UID:cdc61448-05c3-47da-83ff-4e1c84b0afa2
X-WR-CALDESC:This Earth Day event is in its 3rd year. The neighborhood come
 s out to clean in the Harbour Heights Area. Boats and Kayaks are also enco
 uraged for the Peace River that flows along of this community.\nPlease com
 e out and join us! Supplies and food will be provided.\n
X-WR-RELCALID:dc7afe78bbdbe8e6ddbadc94bff9d146
X-WR-TIMEZONE:America/New_York
BEGIN:VTIMEZONE
TZID:America/New_York
BEGIN:STANDARD
TZNAME:EST
DTSTART:20221106T020000
TZOFFSETFROM:-0400
TZOFFSETTO:-0500
RDATE:20231105T020000
END:STANDARD
BEGIN:DAYLIGHT
TZNAME:EDT
DTSTART:20230312T020000
TZOFFSETFROM:-0500
TZOFFSETTO:-0400
RDATE:20240310T020000
END:DAYLIGHT
END:VTIMEZONE
BEGIN:VEVENT
UID:6285482f-5c9b-4ede-bbc5-92d99a810f56
DTSTAMP:20260419T144458Z
DESCRIPTION:This Earth Day event is in its 3rd year. The neighborhood comes
  out to clean in the Harbour Heights Area. Boats and Kayaks are also encou
 raged for the Peace River that flows along of this community.\nPlease come
  out and join us! Supplies and food will be provided.\n
DTSTART;TZID=America/New_York:20230422T100000
DTEND;TZID=America/New_York:20230422T140000
LOCATION:25550 Harbor View Road\, Port Charlotte\, FL 33980 US
SUMMARY:Harbour Heights Earth Day
END:VEVENT
END:VCALENDAR
