BEGIN:VCALENDAR
VERSION:2.0
PRODID:-//keepcharlottebeautiful.org//NONSGML kigkonsult.se iCalcreator 2.3
 0.10//
CALSCALE:GREGORIAN
METHOD:PUBLISH
UID:2002e0fb-d8c9-41cd-ab2f-a5e754bfac06
X-WR-CALDESC:
X-WR-RELCALID:31b1b2f6f1e23b4d62f505fa4cc2f4a2
X-WR-TIMEZONE:America/New_York
BEGIN:VTIMEZONE
TZID:America/New_York
BEGIN:STANDARD
TZNAME:EST
DTSTART:20221106T020000
TZOFFSETFROM:-0400
TZOFFSETTO:-0500
RDATE:20231105T020000
END:STANDARD
BEGIN:DAYLIGHT
TZNAME:EDT
DTSTART:20220313T020000
TZOFFSETFROM:-0500
TZOFFSETTO:-0400
RDATE:20230312T020000
RDATE:20240310T020000
END:DAYLIGHT
END:VTIMEZONE
BEGIN:VEVENT
UID:2228ed95-992b-4b47-a57e-d3dcce56cdf3
DTSTAMP:20260419T163409Z
DESCRIPTION:
DTSTART;TZID=America/New_York:20221203T080000
DTEND;TZID=America/New_York:20221203T120000
LOCATION:19100 Murdock Cir\, \, Port Charlotte\, FL 33948 US
SUMMARY:KCB E-Waste Recycling Event
END:VEVENT
END:VCALENDAR
